BEGIN:VCALENDAR
VERSION:2.0
PRODID:-//185.194.90.9//NONSGML kigkonsult.se iCalcreator 2.20//
CALSCALE:GREGORIAN
METHOD:PUBLISH
X-WR-TIMEZONE:UTC
BEGIN:VEVENT
UID:event2831@thesourcemag.net
DTSTAMP:20260424T131837Z
CATEGORIES:Music
DESCRIPTION:THE ISLAND EXPERIMENT\nCategory: Music\nLink: https://mail.thes
 ourcemag.net/index.php?option=com_jem&view=event&id=2831:the-island-experi
 ment\n
DTSTART:20260422T190000Z
DTEND:20260513T190000Z
LOCATION:Paradise\,London W10 4AE\,W10 4AE London
SUMMARY:THE ISLAND EXPERIMENT
URL:https://mail.thesourcemag.net/index.php?option=com_jem&view=event&id=28
 31:the-island-experiment
END:VEVENT
END:VCALENDAR
